BEGIN:VCALENDAR
VERSION:2.0
PRODID:-//Georgia Center for Resources and Support - ECPv6.15.20//NONSGML v1.0//EN
CALSCALE:GREGORIAN
METHOD:PUBLISH
X-WR-CALNAME:Georgia Center for Resources and Support
X-ORIGINAL-URL:https://gacrs.org
X-WR-CALDESC:Events for Georgia Center for Resources and Support
REFRESH-INTERVAL;VALUE=DURATION:PT1H
X-Robots-Tag:noindex
X-PUBLISHED-TTL:PT1H
BEGIN:VTIMEZONE
TZID:America/Indiana/Indianapolis
BEGIN:DAYLIGHT
TZOFFSETFROM:-0500
TZOFFSETTO:-0400
TZNAME:EDT
DTSTART:20240310T070000
END:DAYLIGHT
BEGIN:STANDARD
TZOFFSETFROM:-0400
TZOFFSETTO:-0500
TZNAME:EST
DTSTART:20241103T060000
END:STANDARD
BEGIN:DAYLIGHT
TZOFFSETFROM:-0500
TZOFFSETTO:-0400
TZNAME:EDT
DTSTART:20250309T070000
END:DAYLIGHT
BEGIN:STANDARD
TZOFFSETFROM:-0400
TZOFFSETTO:-0500
TZNAME:EST
DTSTART:20251102T060000
END:STANDARD
BEGIN:DAYLIGHT
TZOFFSETFROM:-0500
TZOFFSETTO:-0400
TZNAME:EDT
DTSTART:20260308T070000
END:DAYLIGHT
BEGIN:STANDARD
TZOFFSETFROM:-0400
TZOFFSETTO:-0500
TZNAME:EST
DTSTART:20261101T060000
END:STANDARD
END:VTIMEZONE
BEGIN:VEVENT
DTSTART;TZID=America/Indiana/Indianapolis:20250723T190000
DTEND;TZID=America/Indiana/Indianapolis:20250723T200000
DTSTAMP:20260425T062021
CREATED:20250616T130021Z
LAST-MODIFIED:20250616T134432Z
UID:90311-1753297200-1753300800@gacrs.org
SUMMARY:REAL TALK: Talking with your children about adoption
DESCRIPTION:Join us in a discussion about how to talk with your child about adoption.\nPresented by: Laura Cochling\, M.Ed.\, LPC
URL:https://gacrs.org/event/real-talk-talking-with-your-children-about-adoption/
CATEGORIES:Support Group
ATTACH;FMTTYPE=image/png:https://gacrs.org/wp-content/uploads/2025/06/Untitled-design-31-1-e1750078868477.png
ORGANIZER;CN="The Georgia Center for Resources and Support":MAILTO:info@gacrs.org
LOCATION:https://gacrs.org/courses/real-talk-talking-with-your-children-about-adoption/
END:VEVENT
END:VCALENDAR