BEGIN:VCALENDAR
VERSION:2.0
PRODID:-//Georgia Center for Resources and Support - ECPv6.15.20//NONSGML v1.0//EN
CALSCALE:GREGORIAN
METHOD:PUBLISH
X-WR-CALNAME:Georgia Center for Resources and Support
X-ORIGINAL-URL:https://gacrs.org
X-WR-CALDESC:Events for Georgia Center for Resources and Support
REFRESH-INTERVAL;VALUE=DURATION:PT1H
X-Robots-Tag:noindex
X-PUBLISHED-TTL:PT1H
BEGIN:VTIMEZONE
TZID:America/Indiana/Indianapolis
BEGIN:DAYLIGHT
TZOFFSETFROM:-0500
TZOFFSETTO:-0400
TZNAME:EDT
DTSTART:20250309T070000
END:DAYLIGHT
BEGIN:STANDARD
TZOFFSETFROM:-0400
TZOFFSETTO:-0500
TZNAME:EST
DTSTART:20251102T060000
END:STANDARD
BEGIN:DAYLIGHT
TZOFFSETFROM:-0500
TZOFFSETTO:-0400
TZNAME:EDT
DTSTART:20260308T070000
END:DAYLIGHT
BEGIN:STANDARD
TZOFFSETFROM:-0400
TZOFFSETTO:-0500
TZNAME:EST
DTSTART:20261101T060000
END:STANDARD
BEGIN:DAYLIGHT
TZOFFSETFROM:-0500
TZOFFSETTO:-0400
TZNAME:EDT
DTSTART:20270314T070000
END:DAYLIGHT
BEGIN:STANDARD
TZOFFSETFROM:-0400
TZOFFSETTO:-0500
TZNAME:EST
DTSTART:20271107T060000
END:STANDARD
END:VTIMEZONE
BEGIN:VEVENT
DTSTART;TZID=America/Indiana/Indianapolis:20260415T120000
DTEND;TZID=America/Indiana/Indianapolis:20260415T130000
DTSTAMP:20260421T223720
CREATED:20260212T151845Z
LAST-MODIFIED:20260212T151949Z
UID:110974-1776254400-1776258000@gacrs.org
SUMMARY:Cafe Chats: A Virtual Parent to Parent Support Group: April 2026
DESCRIPTION:Join GACRS for a monthly virtual adoption support group- Café Chats. This event is for adoptive families who share one thing\, the journey of adoption.  And while adoption is rewarding it also has challenges.  GACRS wants to provide a virtual platform for you to exchange information and learn from one another. It’s also your opportunity to share your experiences\, what’s in your heart\, the challenges\, and the success of parenting an adopted child or children.  Please see the event calendar for specific dates of each Café Chat- An Adoption Support Event. \nLead by: Melissa Burns
URL:https://gacrs.org/event/cafe-chats-a-virtual-parent-to-parent-support-group-april-2026/
CATEGORIES:Support Group
ATTACH;FMTTYPE=image/png:https://gacrs.org/wp-content/uploads/2022/10/Untitled-design-5-e1666040128678.png
ORGANIZER;CN="The Georgia Center for Resources and Support":MAILTO:info@gacrs.org
LOCATION:https://gacrs.org/courses/cafe-chats-a-virtual-parent-to-parent-support-group-april-2026/
END:VEVENT
END:VCALENDAR