BEGIN:VCALENDAR
VERSION:2.0
PRODID:-//Georgia Center for Resources and Support - ECPv6.15.20//NONSGML v1.0//EN
CALSCALE:GREGORIAN
METHOD:PUBLISH
X-WR-CALNAME:Georgia Center for Resources and Support
X-ORIGINAL-URL:https://gacrs.org
X-WR-CALDESC:Events for Georgia Center for Resources and Support
REFRESH-INTERVAL;VALUE=DURATION:PT1H
X-Robots-Tag:noindex
X-PUBLISHED-TTL:PT1H
BEGIN:VTIMEZONE
TZID:America/Indiana/Indianapolis
BEGIN:DAYLIGHT
TZOFFSETFROM:-0500
TZOFFSETTO:-0400
TZNAME:EDT
DTSTART:20250309T070000
END:DAYLIGHT
BEGIN:STANDARD
TZOFFSETFROM:-0400
TZOFFSETTO:-0500
TZNAME:EST
DTSTART:20251102T060000
END:STANDARD
BEGIN:DAYLIGHT
TZOFFSETFROM:-0500
TZOFFSETTO:-0400
TZNAME:EDT
DTSTART:20260308T070000
END:DAYLIGHT
BEGIN:STANDARD
TZOFFSETFROM:-0400
TZOFFSETTO:-0500
TZNAME:EST
DTSTART:20261101T060000
END:STANDARD
BEGIN:DAYLIGHT
TZOFFSETFROM:-0500
TZOFFSETTO:-0400
TZNAME:EDT
DTSTART:20270314T070000
END:DAYLIGHT
BEGIN:STANDARD
TZOFFSETFROM:-0400
TZOFFSETTO:-0500
TZNAME:EST
DTSTART:20271107T060000
END:STANDARD
END:VTIMEZONE
BEGIN:VEVENT
DTSTART;TZID=America/Indiana/Indianapolis:20260421T120000
DTEND;TZID=America/Indiana/Indianapolis:20260421T130000
DTSTAMP:20260423T075153
CREATED:20260224T173455Z
LAST-MODIFIED:20260318T170654Z
UID:111525-1776772800-1776776400@gacrs.org
SUMMARY:Webinar: Talking about Adoption
DESCRIPTION:Talking about adoption openly and honestly at every development stage: it can be harder than it sounds! Come learn tips\, tricks and the how and why it is so important for you and your kids. \nPresented by: Ashley Willcott\, JD
URL:https://gacrs.org/event/webinar-talking-about-adoption/
CATEGORIES:Live Training
ATTACH;FMTTYPE=image/png:https://gacrs.org/wp-content/uploads/2026/02/Untitled-design-92-e1771954483107.png
ORGANIZER;CN="The Georgia Center for Resources and Support":MAILTO:info@gacrs.org
LOCATION:https://gacrs.org/courses/webinar-talking-about-adoption/
END:VEVENT
BEGIN:VEVENT
DTSTART;TZID=America/Indiana/Indianapolis:20260421T190000
DTEND;TZID=America/Indiana/Indianapolis:20260421T200000
DTSTAMP:20260423T075153
CREATED:20260212T154512Z
LAST-MODIFIED:20260212T154512Z
UID:110994-1776798000-1776801600@gacrs.org
SUMMARY:Parenting Time: Cultural Humility and Identity
DESCRIPTION:Supporting racial\, cultural\, and LGBTQ+ identity\nUnderstanding biases\nAdvocating for inclusive services\n\nPresented by: Janae Combs\, MA\, LPC
URL:https://gacrs.org/event/parenting-time-cultural-humility-and-identity/
CATEGORIES:Support Group
ATTACH;FMTTYPE=image/png:https://gacrs.org/wp-content/uploads/2022/11/PARENTING-TIME-1.png
ORGANIZER;CN="The Georgia Center for Resources and Support":MAILTO:info@gacrs.org
LOCATION:https://gacrs.org/courses/parenting-time-cultural-humility-and-identity/
END:VEVENT
END:VCALENDAR