BEGIN:VCALENDAR
VERSION:2.0
PRODID:-//Georgia Center for Resources and Support - ECPv6.15.20//NONSGML v1.0//EN
CALSCALE:GREGORIAN
METHOD:PUBLISH
X-WR-CALNAME:Georgia Center for Resources and Support
X-ORIGINAL-URL:https://gacrs.org
X-WR-CALDESC:Events for Georgia Center for Resources and Support
REFRESH-INTERVAL;VALUE=DURATION:PT1H
X-Robots-Tag:noindex
X-PUBLISHED-TTL:PT1H
BEGIN:VTIMEZONE
TZID:America/Indiana/Indianapolis
BEGIN:DAYLIGHT
TZOFFSETFROM:-0500
TZOFFSETTO:-0400
TZNAME:EDT
DTSTART:20250309T070000
END:DAYLIGHT
BEGIN:STANDARD
TZOFFSETFROM:-0400
TZOFFSETTO:-0500
TZNAME:EST
DTSTART:20251102T060000
END:STANDARD
BEGIN:DAYLIGHT
TZOFFSETFROM:-0500
TZOFFSETTO:-0400
TZNAME:EDT
DTSTART:20260308T070000
END:DAYLIGHT
BEGIN:STANDARD
TZOFFSETFROM:-0400
TZOFFSETTO:-0500
TZNAME:EST
DTSTART:20261101T060000
END:STANDARD
BEGIN:DAYLIGHT
TZOFFSETFROM:-0500
TZOFFSETTO:-0400
TZNAME:EDT
DTSTART:20270314T070000
END:DAYLIGHT
BEGIN:STANDARD
TZOFFSETFROM:-0400
TZOFFSETTO:-0500
TZNAME:EST
DTSTART:20271107T060000
END:STANDARD
END:VTIMEZONE
BEGIN:VEVENT
DTSTART;TZID=America/Indiana/Indianapolis:20260306T180000
DTEND;TZID=America/Indiana/Indianapolis:20260306T203000
DTSTAMP:20260423T074615
CREATED:20260122T161939Z
LAST-MODIFIED:20260126T223457Z
UID:109585-1772820000-1772829000@gacrs.org
SUMMARY:In-Person Region 13 Training: Resilience
DESCRIPTION:Join us for Foster and Adoptive Parent Support\, networking\, and training on Friday\, March 6\, 2026.  Dinner & Childcare will be provided. Dinner 6:00-6:30pm. Training 6:30pm-8:30pm\nPlease click on the link below to let them know how many people will be attending the dinner.\nKennesaw Church Support Group & Training – March 6\, 2026\n\n\n\n\n2 training hours will be awarded to each participant for attending the training. For questions email fostercare@kennesawmc.orgSupport Group is held at: \nKennesaw Church\n1801 Ben King Road\nKennesaw\, GA 30144Drive around to the back of the building and enter in Door G. Training will be held in Room 137 and childcare will be in the children’s hall. Please sign in at the Registration desk inside Door G.The Foster Care Resource Closet will be open and available from 6:00-6:30pm.\n\n Resilience is the ability to recover from difficulties and children more than ever\, need to develop resilience in today’s world. This session will cover the seven-character traits that develop resilience and how you can best nurture it.\n\n\nPresented by: Lynne Watts\, Ed.S
URL:https://gacrs.org/event/in-person-region-13-training-resilience/
CATEGORIES:Live Training
ATTACH;FMTTYPE=image/png:https://gacrs.org/wp-content/uploads/2025/12/brushing-teeth-activity-4.png
ORGANIZER;CN="The Georgia Center for Resources and Support":MAILTO:info@gacrs.org
END:VEVENT
END:VCALENDAR