BEGIN:VCALENDAR
VERSION:2.0
PRODID:-//Georgia Center for Resources and Support - ECPv6.15.20//NONSGML v1.0//EN
CALSCALE:GREGORIAN
METHOD:PUBLISH
X-ORIGINAL-URL:https://gacrs.org
X-WR-CALDESC:Events for Georgia Center for Resources and Support
REFRESH-INTERVAL;VALUE=DURATION:PT1H
X-Robots-Tag:noindex
X-PUBLISHED-TTL:PT1H
BEGIN:VTIMEZONE
TZID:America/Indiana/Indianapolis
BEGIN:DAYLIGHT
TZOFFSETFROM:-0500
TZOFFSETTO:-0400
TZNAME:EDT
DTSTART:20250309T070000
END:DAYLIGHT
BEGIN:STANDARD
TZOFFSETFROM:-0400
TZOFFSETTO:-0500
TZNAME:EST
DTSTART:20251102T060000
END:STANDARD
BEGIN:DAYLIGHT
TZOFFSETFROM:-0500
TZOFFSETTO:-0400
TZNAME:EDT
DTSTART:20260308T070000
END:DAYLIGHT
BEGIN:STANDARD
TZOFFSETFROM:-0400
TZOFFSETTO:-0500
TZNAME:EST
DTSTART:20261101T060000
END:STANDARD
BEGIN:DAYLIGHT
TZOFFSETFROM:-0500
TZOFFSETTO:-0400
TZNAME:EDT
DTSTART:20270314T070000
END:DAYLIGHT
BEGIN:STANDARD
TZOFFSETFROM:-0400
TZOFFSETTO:-0500
TZNAME:EST
DTSTART:20271107T060000
END:STANDARD
END:VTIMEZONE
BEGIN:VEVENT
DTSTART;TZID=America/Indiana/Indianapolis:20260310T120000
DTEND;TZID=America/Indiana/Indianapolis:20260310T130000
DTSTAMP:20260421T130209
CREATED:20260108T205458Z
LAST-MODIFIED:20260304T150305Z
UID:108642-1773144000-1773147600@gacrs.org
SUMMARY:Cafe Chats: A Virtual Parent to Parent Support Group: March 2026
DESCRIPTION:Join GACRS for a monthly virtual adoption support group- Café Chats. This event is for adoptive families who share one thing\, the journey of adoption.  And while adoption is rewarding it also has challenges.  GACRS wants to provide a virtual platform for you to exchange information and learn from one another. It’s also your opportunity to share your experiences\, what’s in your heart\, the challenges\, and the success of parenting an adopted child or children.  Please see the event calendar for specific dates of each Café Chat- An Adoption Support Event. \nLead by: Dawn Scott
URL:https://gacrs.org/event/cafe-chats-a-virtual-parent-to-parent-support-group-march-2026/
CATEGORIES:Support Group
ATTACH;FMTTYPE=image/png:https://gacrs.org/wp-content/uploads/2022/10/Untitled-design-5-e1666040128678.png
ORGANIZER;CN="The Georgia Center for Resources and Support":MAILTO:info@gacrs.org
LOCATION:https://gacrs.org/courses/cafe-chats-a-virtual-parent-to-parent-support-group-march-2026/
END:VEVENT
BEGIN:VEVENT
DTSTART;TZID=America/Indiana/Indianapolis:20260311T190000
DTEND;TZID=America/Indiana/Indianapolis:20260311T200000
DTSTAMP:20260421T130209
CREATED:20260108T191232Z
LAST-MODIFIED:20260112T180723Z
UID:108603-1773255600-1773259200@gacrs.org
SUMMARY:Real Talk on the Emotional Toll of Caring for Another Person's child
DESCRIPTION:Join us for a group discussion on the Emotional Toll of careing for another persons child. \nManaging guilt\, resentment\, or isolation \nPresented by Laura Cochling\, M.Ed.\, LPC
URL:https://gacrs.org/event/real-talk-on-the-emotional-toll-of-caring-for-another-persons-child/
CATEGORIES:Live Training,Support Group
ATTACH;FMTTYPE=image/png:https://gacrs.org/wp-content/uploads/2025/06/Untitled-design-31-1-e1750078868477.png
ORGANIZER;CN="The Georgia Center for Resources and Support":MAILTO:info@gacrs.org
LOCATION:https://gacrs.org/courses/real-talk-on-the-emotional-toll-of-caring-for-another-persons-child/
END:VEVENT
END:VCALENDAR