BEGIN:VCALENDAR
VERSION:2.0
PRODID:-//Georgia Center for Resources and Support - ECPv6.15.20//NONSGML v1.0//EN
CALSCALE:GREGORIAN
METHOD:PUBLISH
X-ORIGINAL-URL:https://gacrs.org
X-WR-CALDESC:Events for Georgia Center for Resources and Support
REFRESH-INTERVAL;VALUE=DURATION:PT1H
X-Robots-Tag:noindex
X-PUBLISHED-TTL:PT1H
BEGIN:VTIMEZONE
TZID:America/Indiana/Indianapolis
BEGIN:DAYLIGHT
TZOFFSETFROM:-0500
TZOFFSETTO:-0400
TZNAME:EDT
DTSTART:20210314T070000
END:DAYLIGHT
BEGIN:STANDARD
TZOFFSETFROM:-0400
TZOFFSETTO:-0500
TZNAME:EST
DTSTART:20211107T060000
END:STANDARD
BEGIN:DAYLIGHT
TZOFFSETFROM:-0500
TZOFFSETTO:-0400
TZNAME:EDT
DTSTART:20220313T070000
END:DAYLIGHT
BEGIN:STANDARD
TZOFFSETFROM:-0400
TZOFFSETTO:-0500
TZNAME:EST
DTSTART:20221106T060000
END:STANDARD
BEGIN:DAYLIGHT
TZOFFSETFROM:-0500
TZOFFSETTO:-0400
TZNAME:EDT
DTSTART:20230312T070000
END:DAYLIGHT
BEGIN:STANDARD
TZOFFSETFROM:-0400
TZOFFSETTO:-0500
TZNAME:EST
DTSTART:20231105T060000
END:STANDARD
BEGIN:DAYLIGHT
TZOFFSETFROM:-0500
TZOFFSETTO:-0400
TZNAME:EDT
DTSTART:20240310T070000
END:DAYLIGHT
BEGIN:STANDARD
TZOFFSETFROM:-0400
TZOFFSETTO:-0500
TZNAME:EST
DTSTART:20241103T060000
END:STANDARD
BEGIN:DAYLIGHT
TZOFFSETFROM:-0500
TZOFFSETTO:-0400
TZNAME:EDT
DTSTART:20250309T070000
END:DAYLIGHT
BEGIN:STANDARD
TZOFFSETFROM:-0400
TZOFFSETTO:-0500
TZNAME:EST
DTSTART:20251102T060000
END:STANDARD
END:VTIMEZONE
BEGIN:VEVENT
DTSTART;TZID=America/Indiana/Indianapolis:20240306T190000
DTEND;TZID=America/Indiana/Indianapolis:20240306T203000
DTSTAMP:20260423T051401
CREATED:20240111T002303Z
LAST-MODIFIED:20240212T201344Z
UID:58286-1709751600-1709757000@gacrs.org
SUMMARY:Virtual Regional Training: Life Skills & Preparation: How To Help Your Child Get Started
DESCRIPTION:Are you ready to assist your child in gaining an early advantage and establishing the foundation for the life they envision? Excited about the upcoming chapters in life but uncertain about how to guide your child toward their goals? Look no further – you’ve found the right resource! By embracing a proactive stance rather than a reactive one\, your family can strive for exceptional accomplishments. Join The Bossy Educator and explore proven skills and strategies that will provide lasting benefits to future generations! \n\n\n\nInternational Educator/Author/Publisher/Speaker  \n\n\nTara Seals\, MBA\, MAED\n\n\nTheBossyEducator.com
URL:https://gacrs.org/event/virtual-regional-training-life-skills-preparation-how-to-help-your-child-get-started/
LOCATION:Region 14\, GA\, United States
CATEGORIES:Live Training
ATTACH;FMTTYPE=image/png:https://gacrs.org/wp-content/uploads/2024/01/CANCELLED-12-e1704932566470.png
ORGANIZER;CN="The Georgia Center for Resources and Support":MAILTO:info@gacrs.org
END:VEVENT
BEGIN:VEVENT
DTSTART;TZID=America/Indiana/Indianapolis:20230615T190000
DTEND;TZID=America/Indiana/Indianapolis:20230615T200000
DTSTAMP:20260423T051401
CREATED:20230510T155422Z
LAST-MODIFIED:20230510T155422Z
UID:41670-1686855600-1686859200@gacrs.org
SUMMARY:Regions 14 : Cafe Chats: School is out for the Summer\, but not parenting
DESCRIPTION:DATE: JUNE 15\, 2023 \nFROM 7:00- 8:00 PM \nJoin GACRS for a monthly virtual adoption support group- Café Chats. This event is for adoptive families who live in REGION 14: who share one thing\, the journey of adoption.  And while adoption is rewarding it also has challenges.  GACRS wants to provide a virtual platform for you to exchange information and learn from one another. It’s also your opportunity to share your experiences\, what’s in your heart\, the challenges\, and the success of parenting an adopted child or children. \nThis month’s topic is: School is out for the Summer\, but not parenting. \nWhat can I as a parent do to prepare for changes in family schedules and stressors?  Let’s Chat! \nSELECT ENROLL NOW AND THEN RETURN TO THIS PAGE TO JOIN THE MEETING ON JUNE 15!
URL:https://gacrs.org/event/regions-14-cafe-chats-school-is-out-for-the-summer-but-not-parenting/
LOCATION:Region 14\, GA\, United States
CATEGORIES:Support Group
ATTACH;FMTTYPE=image/png:https://gacrs.org/wp-content/uploads/2022/10/Untitled-design-4-e1678828954475.png
ORGANIZER;CN="The Georgia Center for Resources and Support":MAILTO:info@gacrs.org
END:VEVENT
BEGIN:VEVENT
DTSTART;TZID=America/Indiana/Indianapolis:20230413T190000
DTEND;TZID=America/Indiana/Indianapolis:20230413T200000
DTSTAMP:20260423T051401
CREATED:20230317T133049Z
LAST-MODIFIED:20230317T133252Z
UID:39862-1681412400-1681416000@gacrs.org
SUMMARY:Region 14: Regional Cafe Chat: Adoption and planning for the future
DESCRIPTION:DATE: APRIL 13\, 2023 \nFROM 7-8 PM \nJoin GACRS for a monthly virtual adoption support group- Café Chats. This event is for adoptive families who live in REGION 14: who share one thing\, the journey of adoption.  And while adoption is rewarding it also has challenges.  GACRS wants to provide a virtual platform for you to exchange information and learn from one another. It’s also your opportunity to share your experiences\, what’s in your heart\, the challenges\, and the success of parenting an adopted child or children. \nChildren maybe be much younger when you adopt\, but planning for your kids future should start sooner and not later.  Let’s talk about what you as an adoptive parent are planning today for tomorrow for your kids.  Let’s Talk! \nRegion 14: DeKalb\, Fulton
URL:https://gacrs.org/event/region-14-regional-cafe-chat/
LOCATION:Region 14\, GA\, United States
CATEGORIES:Support Group
ATTACH;FMTTYPE=image/png:https://gacrs.org/wp-content/uploads/2022/10/Untitled-design-4-e1678828954475.png
ORGANIZER;CN="The Georgia Center for Resources and Support":MAILTO:info@gacrs.org
END:VEVENT
BEGIN:VEVENT
DTSTART;TZID=America/Indiana/Indianapolis:20230117T184500
DTEND;TZID=America/Indiana/Indianapolis:20230117T194500
DTSTAMP:20260423T051401
CREATED:20230111T125835Z
LAST-MODIFIED:20230111T130110Z
UID:36347-1673981100-1673984700@gacrs.org
SUMMARY:Virtual Regional Training: One Family Voice
DESCRIPTION:*All Participants should RSVP Separately. Please complete your Pre Test prior to the training. \nImproving the lives of Family\, children and adolescents experiencing mental health conditions can be accomplished through advocacy at all government levels and assisted by community involvement.  Legislators are often unaware of children’s mental health issues and what families really experience.  Learning how to share you and your child’s lived experience can make a major difference in the direction of change for children’s mental health policy.  Participants will gain an understanding of Advocacy\, the 7 steps to tell your story\, organizations that advocate\, and gain knowledge on how to search for legislators. \nPresented by: \nDr. Lakliesha Izzard\, \nEd.D\, LPC\, NCC\,ACS \nShekinah Counseling \nAuthor\, Professor \n 
URL:https://gacrs.org/event/virtual-regional-training-one-family-voice/
LOCATION:Region 14\, GA\, United States
CATEGORIES:Live Training
ATTACH;FMTTYPE=image/jpeg:https://gacrs.org/wp-content/uploads/2021/12/marcel-strauss-fzqxoFJytiE-unsplash-scaled-e1639156655839.jpg
ORGANIZER;CN="The Georgia Center for Resources and Support":MAILTO:info@gacrs.org
END:VEVENT
BEGIN:VEVENT
DTSTART;TZID=America/Indiana/Indianapolis:20220517T190000
DTEND;TZID=America/Indiana/Indianapolis:20220517T203000
DTSTAMP:20260423T051401
CREATED:20220320T233915Z
LAST-MODIFIED:20220321T010712Z
UID:18553-1652814000-1652819400@gacrs.org
SUMMARY:Virtual Regional Training: Setting Age-Appropriate Boundaries and Consequences
DESCRIPTION:Description:   \nWhat are Boundaries?  \n What are Consequences?  \n Why are Boundaries and Consequences   \nImportant? \n Why is it important for Boundaries and  \nConsequences be age appropriate? \nFeaturing: \nTeresa Wright-Johnson Founder  \nZaria’s Song and The Younger Years and  Beyond  \nCertified Mental Health Trainer And Facilitator  \n*All Participants should RSVP separately even if you will be listening on the same device. \n 
URL:https://gacrs.org/event/virtual-regional-training-setting-age-appropriate-boundaries-and-consequences/
LOCATION:Region 14\, GA\, United States
CATEGORIES:Live Training
ATTACH;FMTTYPE=image/jpeg:https://gacrs.org/wp-content/uploads/2022/03/kevin-butz-wN56Bsh_Kfc-unsplash-scaled.jpg
ORGANIZER;CN="The Georgia Center for Resources and Support":MAILTO:info@gacrs.org
END:VEVENT
BEGIN:VEVENT
DTSTART;TZID=America/Indiana/Indianapolis:20220111T173000
DTEND;TZID=America/Indiana/Indianapolis:20220111T184500
DTSTAMP:20260423T051401
CREATED:20211221T170459Z
LAST-MODIFIED:20211221T172138Z
UID:12483-1641922200-1641926700@gacrs.org
SUMMARY:Virtual Regional Training: One Family Voice
DESCRIPTION:All Participants should RSVP separately. Please complete the Pre Test Prior to the Training\n\nImproving the lives of Family\, children and adolescents experiencing mental health conditions can be accomplished through advocacy at all government levels and assisted by community involvement.  Legislators are often unaware of children’s mental health issues and what families really experience.  Learning how to share you and your child’s lived experience can make a major difference in the direction of change for children’s mental health policy.  Participants will gain an understanding of Advocacy\, the 7 steps to tell your story\, organizations that advocate\, and gain knowledge on how to search for legislators. \nhttps://www.nami.org/Blogs/NAMI-Blog/June-2020/What-Does-It-Mean-to-Be-a-Mental-Health-Advocate \nDr. Lakliesha Izzard\, \nEd.D\, LPC\, NCC\,ACS \nShekinah Counseling \nAuthor\, Professor
URL:https://gacrs.org/event/virtual-regional-training-one-family-voice-2/
LOCATION:Region 14\, GA\, United States
CATEGORIES:Live Training
ATTACH;FMTTYPE=image/jpeg:https://gacrs.org/wp-content/uploads/2021/12/marcel-strauss-fzqxoFJytiE-unsplash-scaled-e1639156655839.jpg
ORGANIZER;CN="The Georgia Center for Resources and Support":MAILTO:info@gacrs.org
END:VEVENT
END:VCALENDAR