BEGIN:VCALENDAR
VERSION:2.0
PRODID:-//Georgia Center for Resources and Support - ECPv6.15.20//NONSGML v1.0//EN
CALSCALE:GREGORIAN
METHOD:PUBLISH
X-WR-CALNAME:Georgia Center for Resources and Support
X-ORIGINAL-URL:https://gacrs.org
X-WR-CALDESC:Events for Georgia Center for Resources and Support
REFRESH-INTERVAL;VALUE=DURATION:PT1H
X-Robots-Tag:noindex
X-PUBLISHED-TTL:PT1H
BEGIN:VTIMEZONE
TZID:America/Indiana/Indianapolis
BEGIN:DAYLIGHT
TZOFFSETFROM:-0500
TZOFFSETTO:-0400
TZNAME:EDT
DTSTART:20200308T070000
END:DAYLIGHT
BEGIN:STANDARD
TZOFFSETFROM:-0400
TZOFFSETTO:-0500
TZNAME:EST
DTSTART:20201101T060000
END:STANDARD
BEGIN:DAYLIGHT
TZOFFSETFROM:-0500
TZOFFSETTO:-0400
TZNAME:EDT
DTSTART:20210314T070000
END:DAYLIGHT
BEGIN:STANDARD
TZOFFSETFROM:-0400
TZOFFSETTO:-0500
TZNAME:EST
DTSTART:20211107T060000
END:STANDARD
BEGIN:DAYLIGHT
TZOFFSETFROM:-0500
TZOFFSETTO:-0400
TZNAME:EDT
DTSTART:20220313T070000
END:DAYLIGHT
BEGIN:STANDARD
TZOFFSETFROM:-0400
TZOFFSETTO:-0500
TZNAME:EST
DTSTART:20221106T060000
END:STANDARD
BEGIN:DAYLIGHT
TZOFFSETFROM:-0500
TZOFFSETTO:-0400
TZNAME:EDT
DTSTART:20230312T070000
END:DAYLIGHT
BEGIN:STANDARD
TZOFFSETFROM:-0400
TZOFFSETTO:-0500
TZNAME:EST
DTSTART:20231105T060000
END:STANDARD
BEGIN:DAYLIGHT
TZOFFSETFROM:-0500
TZOFFSETTO:-0400
TZNAME:EDT
DTSTART:20240310T070000
END:DAYLIGHT
BEGIN:STANDARD
TZOFFSETFROM:-0400
TZOFFSETTO:-0500
TZNAME:EST
DTSTART:20241103T060000
END:STANDARD
BEGIN:DAYLIGHT
TZOFFSETFROM:-0500
TZOFFSETTO:-0400
TZNAME:EDT
DTSTART:20250309T070000
END:DAYLIGHT
BEGIN:STANDARD
TZOFFSETFROM:-0400
TZOFFSETTO:-0500
TZNAME:EST
DTSTART:20251102T060000
END:STANDARD
END:VTIMEZONE
BEGIN:VEVENT
DTSTART;TZID=America/Indiana/Indianapolis:20240116T190000
DTEND;TZID=America/Indiana/Indianapolis:20240116T203000
DTSTAMP:20260423T105545
CREATED:20231204T231535Z
LAST-MODIFIED:20231205T001533Z
UID:54338-1705431600-1705437000@gacrs.org
SUMMARY:Virtual Regional Training: Your Family Story
DESCRIPTION:This class will have parent focus on their family story and how to make changes in areas that are not as effective as they would hope.  Parent will learn how to rewrite their life story. \nPresented by: \nHope Darden\, BA\, CPS-P\, CEO \nPINS-UP Inc Federation of Families Chapter
URL:https://gacrs.org/event/virtual-regional-training-your-family-story/
LOCATION:Region 6\, GA\, United States
CATEGORIES:Live Training
ATTACH;FMTTYPE=image/png:https://gacrs.org/wp-content/uploads/2023/12/CANCELLED-5-e1701734933259.png
ORGANIZER;CN="The Georgia Center for Resources and Support":MAILTO:info@gacrs.org
END:VEVENT
BEGIN:VEVENT
DTSTART;TZID=America/Indiana/Indianapolis:20230316T190000
DTEND;TZID=America/Indiana/Indianapolis:20230316T203000
DTSTAMP:20260423T105545
CREATED:20230216T214902Z
LAST-MODIFIED:20230216T214902Z
UID:38575-1678993200-1678998600@gacrs.org
SUMMARY:Virtual Regional Training: SPECIAL EDUCATION: IEP OR 504 PLAN?
DESCRIPTION:Description:   This session will cover how to get the help or evaluation for Special Education and how to seek Early Intervention support: \n          *What is Special Education \n          *What is an IEP \n         *What is a 504 Plan \n         *What is the difference between an IEP  \n           And a 504 Plan  \n         *How to advocate for your child \n  \nPLEASE JOIN US! \n Presented by: Teresa Wright Johnson
URL:https://gacrs.org/event/virtual-regional-training-special-education-iep-or-504-plan/
LOCATION:Region 6\, GA\, United States
CATEGORIES:Live Training
ATTACH;FMTTYPE=image/png:https://gacrs.org/wp-content/uploads/2023/02/Untitled-design-66-e1676584026399.png
ORGANIZER;CN="The Georgia Center for Resources and Support":MAILTO:info@gacrs.org
END:VEVENT
BEGIN:VEVENT
DTSTART;TZID=America/Indiana/Indianapolis:20220310T190000
DTEND;TZID=America/Indiana/Indianapolis:20220310T203000
DTSTAMP:20260423T105545
CREATED:20220214T175919Z
LAST-MODIFIED:20220215T172552Z
UID:16182-1646938800-1646944200@gacrs.org
SUMMARY:Virtual Regional Training: Post Adoption Service—ATEAM Adopted Teen Empowerment and Mentoring Program
DESCRIPTION:Description:  The ATEAM provides participants with an opportunity for mutual support and self-expression through group interactions with other adopted teens.   \n Please join us and learn more about the ATEAM. \n\nAll Participants should RSVP separately for all trainings even if you will be participating together\n\n Presented by: \nAmi Taharka\, MS and \nLetitia Robinson\, MSW\, MPA \n ATEAM Site  \nCoordinators \nPlease complete the Pre Test prior to the training.
URL:https://gacrs.org/event/virtual-regional-training-ateam/
LOCATION:Region 6\, GA\, United States
ATTACH;FMTTYPE=image/png:https://gacrs.org/wp-content/uploads/2022/02/ateam.png
ORGANIZER;CN="The Georgia Center for Resources and Support":MAILTO:info@gacrs.org
END:VEVENT
BEGIN:VEVENT
DTSTART;TZID=America/Indiana/Indianapolis:20220208T190000
DTEND;TZID=America/Indiana/Indianapolis:20220208T203000
DTSTAMP:20260423T105545
CREATED:20220131T010037Z
LAST-MODIFIED:20220131T153444Z
UID:15299-1644346800-1644352200@gacrs.org
SUMMARY:Virtual Regional Training: Navigating Reactive Attachment Disorder: An Experiential Journey
DESCRIPTION:Ms. Houze has spent 25 years of her career in administrative management and 15 of those as a small business owner helping others improve their lives. After reaching out to RAD Advocates for help in getting proper treatment for her own children\, she joined the RAD Advocates Volunteer Team.  With her passion for helping others\, Heather’s compassion\, empathy and organizational skills have been an invaluable asset to the organization.   \nJoin us to hear Ms. Houze expertise on RAD as well as her parenting journey. \nPLEASE CREATE AN ACCOUNT IF YOU HAVE NOT DONE SO ALREADY AT WWW.GACRS.ORG\, THEN REGISTER FOR THE TRAINING. \n  \n 
URL:https://gacrs.org/event/virtual-regional-training-navigating-reactive-attachment-disorder-an-experiential-journey/
LOCATION:Region 6\, GA\, United States
ATTACH;FMTTYPE=image/jpeg:https://gacrs.org/wp-content/uploads/2021/12/brett-jordan-M3cxjDNiLlQ-unsplash-scaled-e1639008759993.jpg
ORGANIZER;CN="The Georgia Center for Resources and Support":MAILTO:info@gacrs.org
END:VEVENT
BEGIN:VEVENT
DTSTART;TZID=America/Indiana/Indianapolis:20211013T190000
DTEND;TZID=America/Indiana/Indianapolis:20211013T203000
DTSTAMP:20260423T105545
CREATED:20210928T191147Z
LAST-MODIFIED:20211011T174029Z
UID:6114-1634151600-1634157000@gacrs.org
SUMMARY:Virtual Regional Training: Caring for the Home and Parenting Work Life Balance
DESCRIPTION:October is National Work and Family Month. \nWe will discuss work life balance as it pertains to being adoptive\, foster parents and caregivers in general.  Resiliency  is the key to balance your life work.  We will cover:  full time job & parenting\, caring for the home & parenting\, self-care/me time\, appointments/meetings & services and do over days and times. \nPlease Join Us! \nPresented by: \nTeresa Wright-Johnson \nFounder Zaria’s Song and The Younger Years and Beyond \nCertified Mental Health Trainer And Facilitator \nAll Participants should have their own GACRS.org account and RSVP and complete their pre test’s separately. \nMake sure to complete your Pre Test by clicking on the link below\, Prior to attending the training. \n  \n 
URL:https://gacrs.org/event/caring-for-the-home-and-parenting-work-life-balance/
LOCATION:Region 6\, GA\, United States
CATEGORIES:Live Training
ATTACH;FMTTYPE=image/jpeg:https://gacrs.org/wp-content/uploads/2021/09/pexels-anna-tarazevich-6230964-scaled-e1632854585194.jpg
ORGANIZER;CN="The Georgia Center for Resources and Support":MAILTO:info@gacrs.org
END:VEVENT
END:VCALENDAR